BEGIN:VCALENDAR
VERSION:2.0
PRODID:-//hacksw/handcal//NONSGML v1.0//EN
BEGIN:VEVENT
DTSTAMP:20181212T170000Z
DTSTART:20181212T170000Z
DTEND:20181212T170000Z
LOCATION:Bürgerhaus , Heide, Deutschland
SUMMARY:Ratsversammlung Heide
END:VEVENT
END:VCALENDAR
