BEGIN:VCALENDAR
VERSION:2.0
PRODID:-//hacksw/handcal//NONSGML v1.0//EN
BEGIN:VEVENT
DTSTAMP:20181210T170000Z
DTSTART:20181210T170000Z
DTEND:20181210T170000Z
LOCATION:Heide , Deutschland
SUMMARY:Fraktionssitzung 
END:VEVENT
END:VCALENDAR
