BEGIN:VCALENDAR
VERSION:2.0
PRODID:-//hacksw/handcal//NONSGML v1.0//EN
BEGIN:VEVENT
DTSTAMP:20181208T170000Z
DTSTART:20181208T170000Z
DTEND:20181208T170000Z
LOCATION:Kropp , Deutschland
SUMMARY:Punschabend Kropp
END:VEVENT
END:VCALENDAR
