BEGIN:VCALENDAR
VERSION:2.0
PRODID:-//hacksw/handcal//NONSGML v1.0//EN
BEGIN:VEVENT
DTSTAMP:20181205T230000Z
DTSTART:20181205T230000Z
DTEND:20181207T230000Z
LOCATION:Berlin , Deutschland
SUMMARY:Bundesparteitag 
END:VEVENT
END:VCALENDAR
