BEGIN:VCALENDAR
VERSION:2.0
PRODID:-//hacksw/handcal//NONSGML v1.0//EN
BEGIN:VEVENT
DTSTAMP:20181130T133000Z
DTSTART:20181130T133000Z
DTEND:20181130T133000Z
LOCATION:Dithmarscher Hof , Tellingstedt, Deutschland
SUMMARY:Adventskaffee Ortsverband Tellingstedt
END:VEVENT
END:VCALENDAR
