BEGIN:VCALENDAR
VERSION:2.0
PRODID:-//hacksw/handcal//NONSGML v1.0//EN
BEGIN:VEVENT
DTSTAMP:20181129T153000Z
DTSTART:20181129T153000Z
DTEND:20181129T153000Z
LOCATION:Heide, Deutschland
SUMMARY:Besprechung Stadtmarketing 
END:VEVENT
END:VCALENDAR
