BEGIN:VCALENDAR
VERSION:2.0
PRODID:-//hacksw/handcal//NONSGML v1.0//EN
BEGIN:VEVENT
DTSTAMP:20181126T170000Z
DTSTART:20181126T170000Z
DTEND:20181126T170000Z
LOCATION:Marktplatz, Heide, Deutschland
SUMMARY:Eisbahn Heider Marktplatz 
END:VEVENT
END:VCALENDAR
