BEGIN:VCALENDAR
VERSION:2.0
PRODID:-//hacksw/handcal//NONSGML v1.0//EN
BEGIN:VEVENT
DTSTAMP:20181119T090000Z
DTSTART:20181119T090000Z
DTEND:20181119T090000Z
LOCATION:Kropp, Deutschland
SUMMARY:Max und Moritz auf Platt
END:VEVENT
END:VCALENDAR
