BEGIN:VCALENDAR
VERSION:2.0
PRODID:-//hacksw/handcal//NONSGML v1.0//EN
BEGIN:VEVENT
DTSTAMP:20180925T163000Z
DTSTART:20180925T163000Z
DTEND:20180925T190000Z
LOCATION:Haus des Sports, Kiel, Deutschland
SUMMARY:KPV Kommunalkongress
END:VEVENT
END:VCALENDAR
