BEGIN:VCALENDAR
VERSION:2.0
PRODID:-//hacksw/handcal//NONSGML v1.0//EN
BEGIN:VEVENT
DTSTAMP:20180924T163000Z
DTSTART:20180924T163000Z
DTEND:20180924T193000Z
LOCATION:Thormannhalle, Büdelsdorf , Deutschland
SUMMARY:UV Nord ACO 
END:VEVENT
END:VCALENDAR
