BEGIN:VCALENDAR
VERSION:2.0
PRODID:-//hacksw/handcal//NONSGML v1.0//EN
BEGIN:VEVENT
DTSTAMP:20180924T110000Z
DTSTART:20180924T110000Z
DTEND:20180924T160000Z
LOCATION:Deula , Deutschland
SUMMARY:EE SH Sektorenkopplung
END:VEVENT
END:VCALENDAR
