BEGIN:VCALENDAR
VERSION:2.0
PRODID:-//hacksw/handcal//NONSGML v1.0//EN
BEGIN:VEVENT
DTSTAMP:20180905T170000Z
DTSTART:20180905T170000Z
DTEND:20180905T200000Z
LOCATION:Kiel , Deutschland
SUMMARY:Parlamentarischer Abend MIT
END:VEVENT
END:VCALENDAR
