BEGIN:VCALENDAR
VERSION:2.0
PRODID:-//hacksw/handcal//NONSGML v1.0//EN
BEGIN:VEVENT
DTSTAMP:20180905T160000Z
DTSTART:20180905T160000Z
DTEND:20180905T193000Z
LOCATION:Kiel , Deutschland
SUMMARY: Kieler Abend
END:VEVENT
END:VCALENDAR
