BEGIN:VCALENDAR
VERSION:2.0
PRODID:-//hacksw/handcal//NONSGML v1.0//EN
BEGIN:VEVENT
DTSTAMP:20180904T170000Z
DTSTART:20180904T170000Z
DTEND:20180904T200000Z
LOCATION:Heide, Deutschland
SUMMARY:AR Stadtmarketing
END:VEVENT
END:VCALENDAR
