BEGIN:VCALENDAR
VERSION:2.0
PRODID:-//hacksw/handcal//NONSGML v1.0//EN
BEGIN:VEVENT
DTSTAMP:20180904T150000Z
DTSTART:20180904T150000Z
DTEND:20180904T160000Z
LOCATION:Landeshaus Kiel , Kiel, Deutschland
SUMMARY:FAK Wirtschaft
END:VEVENT
END:VCALENDAR
