BEGIN:VCALENDAR
VERSION:2.0
PRODID:-//hacksw/handcal//NONSGML v1.0//EN
BEGIN:VEVENT
DTSTAMP:20180831T160000Z
DTSTART:20180831T160000Z
DTEND:20180901T000000Z
LOCATION:Marktplatz , Heide, Deutschland
SUMMARY:Stadtfest Heide
END:VEVENT
END:VCALENDAR
