BEGIN:VCALENDAR
VERSION:2.0
PRODID:-//hacksw/handcal//NONSGML v1.0//EN
BEGIN:VEVENT
DTSTAMP:20180831T130000Z
DTSTART:20180831T130000Z
DTEND:20180831T190000Z
LOCATION:Kindergarten , Hollingstedt, Deutschland
SUMMARY:Einweihungsfeier Kindergarten Hollingstedt
END:VEVENT
END:VCALENDAR
