BEGIN:VCALENDAR
VERSION:2.0
PRODID:-//hacksw/handcal//NONSGML v1.0//EN
BEGIN:VEVENT
DTSTAMP:20180831T080000Z
DTSTART:20180831T080000Z
DTEND:20180831T120000Z
LOCATION:Norlagelände, Westerrönfeld, Deutschland
SUMMARY:Bauerntag auf der Norla 
END:VEVENT
END:VCALENDAR
