BEGIN:VCALENDAR
VERSION:2.0
PRODID:-//hacksw/handcal//NONSGML v1.0//EN
BEGIN:VEVENT
DTSTAMP:20180830T100000Z
DTSTART:20180830T100000Z
DTEND:20180830T130000Z
LOCATION:Norlagelände, Westerrönfeld, Deutschland
SUMMARY:Norla 
END:VEVENT
END:VCALENDAR
