BEGIN:VCALENDAR
VERSION:2.0
PRODID:-//hacksw/handcal//NONSGML v1.0//EN
BEGIN:VEVENT
DTSTAMP:20180830T080000Z
DTSTART:20180830T080000Z
DTEND:20180830T100000Z
LOCATION:Norla, Westerrönfeld, Deutschland
SUMMARY:CDU-Stand Norla
END:VEVENT
END:VCALENDAR
