BEGIN:VCALENDAR
VERSION:2.0
PRODID:-//hacksw/handcal//NONSGML v1.0//EN
BEGIN:VEVENT
DTSTAMP:20180829T063000Z
DTSTART:20180829T063000Z
DTEND:20180829T075000Z
LOCATION:Landeshaus Kiel, Kiel , Deutschland
SUMMARY:GAK Wirtschaft
END:VEVENT
END:VCALENDAR
