BEGIN:VCALENDAR
VERSION:2.0
PRODID:-//hacksw/handcal//NONSGML v1.0//EN
BEGIN:VEVENT
DTSTAMP:20180828T170000Z
DTSTART:20180828T170000Z
DTEND:20180828T200000Z
LOCATION:Stadttheater , Heide, Deutschland
SUMMARY:Bürgermeistervorstellung 
END:VEVENT
END:VCALENDAR
