BEGIN:VCALENDAR
VERSION:2.0
PRODID:-//hacksw/handcal//NONSGML v1.0//EN
BEGIN:VEVENT
DTSTAMP:20180818T150000Z
DTSTART:20180818T150000Z
DTEND:20180818T200000Z
LOCATION:Kropp, Deutschland
SUMMARY:Mitsommernacht Kropp
END:VEVENT
END:VCALENDAR
