BEGIN:VCALENDAR
VERSION:2.0
PRODID:-//hacksw/handcal//NONSGML v1.0//EN
BEGIN:VEVENT
DTSTAMP:20180818T103000Z
DTSTART:20180818T103000Z
DTEND:20180818T143000Z
LOCATION:Tellingstedt, Deutschland
SUMMARY:Volksfest Tellingstedt 
END:VEVENT
END:VCALENDAR
