BEGIN:VCALENDAR
VERSION:2.0
PRODID:-//hacksw/handcal//NONSGML v1.0//EN
BEGIN:VEVENT
DTSTAMP:20180817T150000Z
DTSTART:20180817T150000Z
DTEND:20180817T190000Z
LOCATION:Bargener Fähre, Delve, Deutschland
SUMMARY:Fährverein "Bargener Fähre" Abschlussfeier
END:VEVENT
END:VCALENDAR
