BEGIN:VCALENDAR
VERSION:2.0
PRODID:-//hacksw/handcal//NONSGML v1.0//EN
BEGIN:VEVENT
DTSTAMP:20180814T080000Z
DTSTART:20180814T080000Z
DTEND:20180814T150000Z
LOCATION:Heide, Deutschland
SUMMARY:Wahlkreisbereisung mit der Fraktion 
END:VEVENT
END:VCALENDAR
