BEGIN:VCALENDAR
VERSION:2.0
PRODID:-//hacksw/handcal//NONSGML v1.0//EN
BEGIN:VEVENT
DTSTAMP:20180821T120000Z
DTSTART:20180821T120000Z
DTEND:20180821T150000Z
LOCATION:Landeshaus , Kiel, Deutschland
SUMMARY:Fraktionssitzung
END:VEVENT
END:VCALENDAR
