BEGIN:VCALENDAR
VERSION:2.0
PRODID:-//hacksw/handcal//NONSGML v1.0//EN
BEGIN:VEVENT
DTSTAMP:20180822T173000Z
DTSTART:20180822T173000Z
DTEND:20180822T213000Z
SUMMARY:Amtsverband Arensharde
END:VEVENT
END:VCALENDAR
