BEGIN:VCALENDAR
VERSION:2.0
PRODID:-//hacksw/handcal//NONSGML v1.0//EN
BEGIN:VEVENT
DTSTAMP:20180706T073000Z
DTSTART:20180706T073000Z
DTEND:20180706T143000Z
LOCATION:Landeshaus, Kiel, Deutschland
SUMMARY:Landtagssitzung 
END:VEVENT
END:VCALENDAR
