BEGIN:VCALENDAR
VERSION:2.0
PRODID:-//hacksw/handcal//NONSGML v1.0//EN
BEGIN:VEVENT
DTSTAMP:20180705T113000Z
DTSTART:20180705T113000Z
DTEND:20180705T123000Z
LOCATION:Kiel , Deutschland
SUMMARY:FAK/ Nordmetall 
END:VEVENT
END:VCALENDAR
