BEGIN:VCALENDAR
VERSION:2.0
PRODID:-//hacksw/handcal//NONSGML v1.0//EN
BEGIN:VEVENT
DTSTAMP:20180704T160000Z
DTSTART:20180704T160000Z
DTEND:20180704T200000Z
LOCATION:Kiel , Deutschland
SUMMARY:Parlamentarischer Abend
END:VEVENT
END:VCALENDAR
