BEGIN:VCALENDAR
VERSION:2.0
PRODID:-//hacksw/handcal//NONSGML v1.0//EN
BEGIN:VEVENT
DTSTAMP:20180629T110000Z
DTSTART:20180629T110000Z
DTEND:20180629T210000Z
LOCATION:Tellingstedt , Deutschland
SUMMARY:"Hein Amtmann" Veranstaltung vom Amt Eider 
END:VEVENT
END:VCALENDAR
