BEGIN:VCALENDAR
VERSION:2.0
PRODID:-//hacksw/handcal//NONSGML v1.0//EN
BEGIN:VEVENT
DTSTAMP:20180629T070000Z
DTSTART:20180629T070000Z
DTEND:20180629T100000Z
LOCATION:Itzehoe , Deutschland
SUMMARY:LFK Energie 
END:VEVENT
END:VCALENDAR
