BEGIN:VCALENDAR
VERSION:2.0
PRODID:-//hacksw/handcal//NONSGML v1.0//EN
BEGIN:VEVENT
DTSTAMP:20180628T170000Z
DTSTART:20180628T170000Z
DTEND:20180628T200000Z
LOCATION:Kropp, Deutschland
SUMMARY:Ehrenamtstag Kropp-Stapelholm
END:VEVENT
END:VCALENDAR
