BEGIN:VCALENDAR
VERSION:2.0
PRODID:-//hacksw/handcal//NONSGML v1.0//EN
BEGIN:VEVENT
DTSTAMP:20180628T160000Z
DTSTART:20180628T160000Z
DTEND:20180628T190000Z
LOCATION:Heide, Deutschland
SUMMARY:Besprechung Stadtmarketing/ Weihnachtsmarkt
END:VEVENT
END:VCALENDAR
