BEGIN:VCALENDAR
VERSION:2.0
PRODID:-//hacksw/handcal//NONSGML v1.0//EN
BEGIN:VEVENT
DTSTAMP:20180626T090000Z
DTSTART:20180626T090000Z
DTEND:20180626T110000Z
LOCATION:Landeshaus, Deutschland
SUMMARY:Beratungsgespräch mit der Staatssekretärin 
END:VEVENT
END:VCALENDAR
