BEGIN:VCALENDAR
VERSION:2.0
PRODID:-//hacksw/handcal//NONSGML v1.0//EN
BEGIN:VEVENT
DTSTAMP:20180621T150000Z
DTSTART:20180621T150000Z
DTEND:20180621T160000Z
SUMMARY:Gespräch EA Vorstand 
END:VEVENT
END:VCALENDAR
