BEGIN:VCALENDAR
VERSION:2.0
PRODID:-//hacksw/handcal//NONSGML v1.0//EN
BEGIN:VEVENT
DTSTAMP:20180622T130000Z
DTSTART:20180622T130000Z
DTEND:20180622T190000Z
LOCATION:Bergenhusen, Deutschland
SUMMARY:25 Jahre Nabu und ETS 
END:VEVENT
END:VCALENDAR
