BEGIN:VCALENDAR
VERSION:2.0
PRODID:-//hacksw/handcal//NONSGML v1.0//EN
BEGIN:VEVENT
DTSTAMP:20180620T170000Z
DTSTART:20180620T170000Z
DTEND:20180620T190000Z
LOCATION:Landeshaus, Kiel, Deutschland
SUMMARY:NEW 4.0 
END:VEVENT
END:VCALENDAR
