BEGIN:VCALENDAR
VERSION:2.0
PRODID:-//hacksw/handcal//NONSGML v1.0//EN
BEGIN:VEVENT
DTSTAMP:20180620T123000Z
DTSTART:20180620T123000Z
DTEND:20180620T123000Z
SUMMARY:FHW Automobilität
END:VEVENT
END:VCALENDAR
