BEGIN:VCALENDAR
VERSION:2.0
PRODID:-//hacksw/handcal//NONSGML v1.0//EN
BEGIN:VEVENT
DTSTAMP:20180615T140000Z
DTSTART:20180615T140000Z
DTEND:20180615T160000Z
LOCATION:Landeshaus, Kiel, Deutschland
SUMMARY:Junge Union im Landeshaus
END:VEVENT
END:VCALENDAR
