BEGIN:VCALENDAR
VERSION:2.0
PRODID:-//hacksw/handcal//NONSGML v1.0//EN
BEGIN:VEVENT
DTSTAMP:20180613T160000Z
DTSTART:20180613T160000Z
DTEND:20180613T190000Z
LOCATION:Heide, Deutschland
SUMMARY:Ratsversammlung der Stadt Heide
END:VEVENT
END:VCALENDAR
