BEGIN:VCALENDAR
VERSION:2.0
PRODID:-//hacksw/handcal//NONSGML v1.0//EN
BEGIN:VEVENT
DTSTAMP:20180616T113000Z
DTSTART:20180616T113000Z
DTEND:20180616T160000Z
SUMMARY:Wirtschaftsrat 
END:VEVENT
END:VCALENDAR
