BEGIN:VCALENDAR
VERSION:2.0
PRODID:-//hacksw/handcal//NONSGML v1.0//EN
BEGIN:VEVENT
DTSTAMP:20180612T120000Z
DTSTART:20180612T120000Z
DTEND:20180612T150000Z
LOCATION:Kiel , Deutschland
SUMMARY:Fraktionssitzung
END:VEVENT
END:VCALENDAR
