BEGIN:VCALENDAR
VERSION:2.0
PRODID:-//hacksw/handcal//NONSGML v1.0//EN
BEGIN:VEVENT
DTSTAMP:20180609T170000Z
DTSTART:20180609T170000Z
DTEND:20180609T190000Z
LOCATION:Heide, Deutschland
SUMMARY:Stadtfest Heide 
END:VEVENT
END:VCALENDAR
