BEGIN:VCALENDAR
VERSION:2.0
PRODID:-//hacksw/handcal//NONSGML v1.0//EN
BEGIN:VEVENT
DTSTAMP:20180607T173000Z
DTSTART:20180607T173000Z
DTEND:20180607T190000Z
LOCATION:Tarp, Deutschland
SUMMARY:Kreisbauerntag 
END:VEVENT
END:VCALENDAR
