BEGIN:VCALENDAR
VERSION:2.0
PRODID:-//hacksw/handcal//NONSGML v1.0//EN
BEGIN:VEVENT
DTSTAMP:20180607T150000Z
DTSTART:20180607T150000Z
DTEND:20180607T180000Z
LOCATION:Hennstedt , Deutschland
SUMMARY:10-jähriges Jubiläum Amt Eider 
END:VEVENT
END:VCALENDAR
