BEGIN:VCALENDAR
VERSION:2.0
PRODID:-//hacksw/handcal//NONSGML v1.0//EN
BEGIN:VEVENT
DTSTAMP:20180608T070000Z
DTSTART:20180608T070000Z
DTEND:20180608T110000Z
SUMMARY:Außendienst im Wahlkreis 
END:VEVENT
END:VCALENDAR
