BEGIN:VCALENDAR
VERSION:2.0
PRODID:-//hacksw/handcal//NONSGML v1.0//EN
BEGIN:VEVENT
DTSTAMP:20180606T070000Z
DTSTART:20180606T070000Z
DTEND:20180606T080000Z
LOCATION:Landeshaus, Deutschland
SUMMARY:GAK Energie
END:VEVENT
END:VCALENDAR
