BEGIN:VCALENDAR
VERSION:2.0
PRODID:-//hacksw/handcal//NONSGML v1.0//EN
BEGIN:VEVENT
DTSTAMP:20180601T110000Z
DTSTART:20180601T110000Z
DTEND:20180601T110000Z
LOCATION:Kiel , Deutschland
SUMMARY:Windplanung mit Energiepolitischem Sprecher
END:VEVENT
END:VCALENDAR
